BEGIN:VCALENDAR
VERSION:2.0
PRODID:icalendar-ruby
CALSCALE:GREGORIAN
METHOD:PUBLISH
BEGIN:VEVENT
DTSTAMP:20260419T144021Z
UID:12-511698@highfieldbaptist.org
DTSTART:20261007T163000Z
DTEND:20261007T173000Z
CLASS:PUBLIC
CREATED:20260419T102248
DESCRIPTION:Join us for a devotional and time of prayer. Open to anyone. 
LAST-MODIFIED:20260419T102248
LOCATION:290 Saint George St
SUMMARY:Prayer Group
URL;VALUE=URI:https://highfieldbaptist.org/events/prayer-group/2026-10-07
ATTACH;FILENAME=Prayer-Group.png;FMTTYPE=image/png:https://dq5pwpg1q8ru0.cl
 oudfront.net/2025/08/27/16/06/26/001ea354-574e-4a39-b757-a706d786132c/Pray
 er-Group.png
END:VEVENT
END:VCALENDAR
