BEGIN:VCALENDAR
VERSION:2.0
PRODID:icalendar-ruby
CALSCALE:GREGORIAN
METHOD:PUBLISH
BEGIN:VEVENT
DTSTAMP:20260421T164149Z
UID:5-517228@highfieldbaptist.org
DTSTART:20261011T133000Z
DTEND:20261011T143000Z
CLASS:PUBLIC
CREATED:20260421T115723
DESCRIPTION:Sunday Worship
LAST-MODIFIED:20260421T115723
LOCATION:
SUMMARY:Sunday Worship
URL;VALUE=URI:https://highfieldbaptist.org/events/sunday-worship/2026-10-11
END:VEVENT
END:VCALENDAR
