BEGIN:VCALENDAR
VERSION:2.0
PRODID:icalendar-ruby
CALSCALE:GREGORIAN
METHOD:PUBLISH
BEGIN:VEVENT
DTSTAMP:20260421T182316Z
UID:5-517659@highfieldbaptist.org
DTSTART:20261018T133000Z
DTEND:20261018T143000Z
CLASS:PUBLIC
CREATED:20260421T143742
DESCRIPTION:Sunday Worship
LAST-MODIFIED:20260421T143742
LOCATION:
SUMMARY:Sunday Worship
URL;VALUE=URI:https://highfieldbaptist.org/events/sunday-worship/2026-10-18
END:VEVENT
END:VCALENDAR
