BEGIN:VCALENDAR
VERSION:2.0
PRODID:icalendar-ruby
CALSCALE:GREGORIAN
METHOD:PUBLISH
BEGIN:VEVENT
DTSTAMP:20260421T213625Z
UID:5-518091@highfieldbaptist.org
DTSTART:20261101T143000Z
DTEND:20261101T153000Z
CLASS:PUBLIC
CREATED:20260421T171327
DESCRIPTION:Sunday Worship
LAST-MODIFIED:20260421T171327
LOCATION:
SUMMARY:Sunday Worship
URL;VALUE=URI:https://highfieldbaptist.org/events/sunday-worship/2026-11-01
END:VEVENT
END:VCALENDAR
