BEGIN:VCALENDAR
VERSION:2.0
PRODID:icalendar-ruby
CALSCALE:GREGORIAN
METHOD:PUBLISH
BEGIN:VEVENT
DTSTAMP:20260419T200359Z
UID:13-512182@highfieldbaptist.org
DTSTART:20261009T213000Z
DTEND:20261009T231500Z
CLASS:PUBLIC
CREATED:20260419T140450
DESCRIPTION:Grades 6-12 join us each Friday night from 6:30-8:15pm for Yout
 hVenture! At YouthVenture there is a time to hang out with friends\, play 
 games\, have a snack and learn more about God. We hope to see you there! I
 f you're new\, please have a parent/guardian fill out this form
LAST-MODIFIED:20260419T140450
LOCATION:290 Saint George St
SUMMARY:YouthVenture
URL;VALUE=URI:https://highfieldbaptist.org/events/youthventure/2026-10-09
ATTACH;FILENAME=Youth-Ministry.png;FMTTYPE=image/png:https://dq5pwpg1q8ru0.
 cloudfront.net/2025/09/26/13/08/17/879f2347-de63-494f-9ecc-278335935725/Yo
 uth-Ministry.png
END:VEVENT
END:VCALENDAR
